BEGIN:VCALENDAR
METHOD:PUBLISH
PRODID:Data::ICal 0.13
VERSION:2.0
BEGIN:VEVENT
DESCRIPTION:[caption id=&quot;attachment_4492330&quot; align=&quot;alignnone&quot; width=&quot;1024&quot;] Source: R1 / R1[/caption]\n\nATLANTA! HOT 107,9 Welcomes the 85 South Show “Return of the Ghetto Legends Tour” They’re coming home to the Fox Theater for two shows this Friday March 4th! Chico Bean, Carlos Miller and DC Young Fly!! You don’t want to miss this get your tickets now before they’re gone!!! Click here to get your tickets!!!
DTSTAMP:20260424T172025Z
DTSTART;TZID=America/New_York:20220304T000000
DTEND;TZID=America/New_York:20220304T000000
LOCATION:
SUMMARY:85 South Show Return of the Ghetto Legends Tour
UID:4492329-1646352000-1646352000
END:VEVENT
END:VCALENDAR
