BEGIN:VCALENDAR
METHOD:PUBLISH
PRODID:Data::ICal 0.13
VERSION:2.0
BEGIN:VEVENT
DESCRIPTION:Amerigroup &amp; Connecting Henry presents the Ultimate Baby Shower on October 5th from 1pm to 3pm.\n\n[caption id=&quot;attachment_5687451&quot; align=&quot;alignnone&quot; width=&quot;1024&quot;] Source: Amerigroup Community Care / Amerigroup Community Care[/caption]
DTSTAMP:20260420T030641Z
DTSTART;TZID=America/New_York:20241005T130000
DTEND;TZID=America/New_York:20241005T150000
LOCATION:166 Holly Smith Dr\, McDonough\, GA\, 30253
SUMMARY:Amerigroup&#8217;s Ultimate Baby Shower
UID:5687472-1728133200-1728140400
END:VEVENT
END:VCALENDAR
