BEGIN:VCALENDAR
METHOD:PUBLISH
PRODID:Data::ICal 0.13
VERSION:2.0
BEGIN:VEVENT
DESCRIPTION:
DTSTAMP:20260419T174052Z
DTSTART;TZID=America/New_York:20210515T190000
DTEND;TZID=America/New_York:20210515T220000
LOCATION:1 AMB Dr NW\, Atlanta\, GA\, 30303
SUMMARY:Atlanta United FC vs. CF Montreal
UID:4113990-1621105200-1621116000
END:VEVENT
END:VCALENDAR
