BEGIN:VCALENDAR
METHOD:PUBLISH
PRODID:Data::ICal 0.13
VERSION:2.0
BEGIN:VEVENT
DESCRIPTION:
DTSTAMP:20260420T153426Z
DTSTART;TZID=America/New_York:20260419T203000
DTEND;TZID=America/New_York:20260419T203000
LOCATION:800 Battery Ave #500\, Atlanta\, GA\, 30339
SUMMARY:Baby Keem: The Ca$ino Tour
UID:6785538-1776630600-1776630600
END:VEVENT
END:VCALENDAR
