BEGIN:VCALENDAR
METHOD:PUBLISH
PRODID:Data::ICal 0.13
VERSION:2.0
BEGIN:VEVENT
DESCRIPTION:
DTSTAMP:20260421T113903Z
DTSTART;TZID=America/New_York:20210103T220000
DTEND;TZID=America/New_York:20210104T030000
LOCATION:3277 Buford Highway NE.\, Brookhaven\, GA\, 30329
SUMMARY:Josephine Lounge | Sin Sundays
UID:3914855-1609711200-1609729200
END:VEVENT
END:VCALENDAR
