BEGIN:VCALENDAR
METHOD:PUBLISH
PRODID:Data::ICal 0.13
VERSION:2.0
BEGIN:VEVENT
DESCRIPTION:[caption id=&quot;attachment_4862547&quot; align=&quot;alignnone&quot; width=&quot;1024&quot;] Source: R1 / R1[/caption]\nBUY TICKETS HERE
DTSTAMP:20260421T164551Z
DTSTART;TZID=America/New_York:20230713T000000
DTEND;TZID=America/New_York:20230713T000000
LOCATION:
SUMMARY:Killer Mike and the Midnight Revival: The High &amp; Holy Tour
UID:4862548-1689206400-1689206400
END:VEVENT
END:VCALENDAR
