BEGIN:VCALENDAR
METHOD:PUBLISH
PRODID:Data::ICal 0.13
VERSION:2.0
BEGIN:VEVENT
DESCRIPTION:
DTSTAMP:20260421T101327Z
DTSTART;TZID=America/New_York:20190316T210000
DTEND;TZID=America/New_York:20190316T230000
LOCATION:1 AT&amp;T Way\, Arlington\, TX\, 76011
SUMMARY:SPENCE JR VS GARCIA WORLD WELTERWEIGHT CHAMPIONSHIP
UID:3745598-1552770000-1552777200
END:VEVENT
END:VCALENDAR
