BEGIN:VCALENDAR
METHOD:PUBLISH
PRODID:Data::ICal 0.13
VERSION:2.0
BEGIN:VEVENT
DESCRIPTION:[caption id=&quot;attachment_5414713&quot; align=&quot;alignnone&quot; width=&quot;350&quot;] Source: R1 / other[/caption]\n\nWe Them Ones Comedy Tour\nMarch 16\nState Farm Arena \n1 State Farm Drive, Atlanta, GA. 30303\nhttps://www.ticketmaster.com/event/0E005F4BDFA54F21
DTSTAMP:20260424T171806Z
DTSTART;TZID=America/New_York:20240316T000000
DTEND;TZID=America/New_York:20240316T000000
LOCATION:
SUMMARY:We Them Ones Comedy Tour
UID:5414732-1710547200-1710547200
END:VEVENT
END:VCALENDAR
